Package: GEOsubmission Version: 1.58.0 Command: chmod a+r GEOsubmission -R && F:\biocbuild\bbs-3.20-bioc\R\bin\R.exe CMD build --keep-empty-dirs --no-resave-data GEOsubmission StartedAt: 2025-03-31 19:14:03 -0400 (Mon, 31 Mar 2025) EndedAt: 2025-03-31 19:14:20 -0400 (Mon, 31 Mar 2025) EllapsedTime: 17.7 seconds RetCode: 0 Status: OK PackageFile: GEOsubmission_1.58.0.tar.gz PackageFileSize: 79.15 KiB