Package: GEOsubmission Version: 1.58.0 Command: /Library/Frameworks/R.framework/Resources/bin/R CMD build --keep-empty-dirs --no-resave-data GEOsubmission StartedAt: 2025-04-01 00:10:02 -0400 (Tue, 01 Apr 2025) EndedAt: 2025-04-01 00:10:14 -0400 (Tue, 01 Apr 2025) EllapsedTime: 12.6 seconds RetCode: 0 Status: OK PackageFile: GEOsubmission_1.58.0.tar.gz PackageFileSize: 191.8 KiB