Package: GEOmetadb Version: 1.68.1 Command: /home/biocbuild/R/R/bin/R CMD build --keep-empty-dirs --no-resave-data GEOmetadb StartedAt: 2025-03-31 23:44:50 -0000 (Mon, 31 Mar 2025) EndedAt: 2025-03-31 23:48:43 -0000 (Mon, 31 Mar 2025) EllapsedTime: 233.2 seconds RetCode: 1 Status: ERROR PackageFile: None PackageFileSize: NA