Package: GEOmetadb Version: 1.68.1 Command: F:\biocbuild\bbs-3.20-bioc\R\bin\R.exe CMD check --no-multiarch --install=check:GEOmetadb.install-out.txt --library=F:\biocbuild\bbs-3.20-bioc\R\library --no-vignettes --timings GEOmetadb_1.68.1.tar.gz StartedAt: 2025-01-28 02:00:46 -0500 (Tue, 28 Jan 2025) EndedAt: 2025-01-28 02:01:32 -0500 (Tue, 28 Jan 2025) EllapsedTime: 46.5 seconds RetCode: 0 Status: WARNINGS CheckDir: GEOmetadb.Rcheck Warnings: 1