Package: GEOmetadb Version: 1.68.0 Command: /Library/Frameworks/R.framework/Resources/bin/R CMD build --keep-empty-dirs --no-resave-data GEOmetadb StartedAt: 2024-11-08 17:27:08 -0500 (Fri, 08 Nov 2024) EndedAt: 2024-11-08 17:27:11 -0500 (Fri, 08 Nov 2024) EllapsedTime: 3.0 seconds RetCode: 1 Status: ERROR PackageFile: None PackageFileSize: NA