Package: GEOmetadb Version: 1.68.1 Command: /Library/Frameworks/R.framework/Resources/bin/R CMD INSTALL GEOmetadb StartedAt: 2025-03-31 15:41:03 -0400 (Mon, 31 Mar 2025) EndedAt: 2025-03-31 15:41:07 -0400 (Mon, 31 Mar 2025) EllapsedTime: 4.0 seconds RetCode: 0 Status: OK