Package: GEOfastq Version: 1.14.0 Command: /home/biocbuild/R/R/bin/R CMD check --install=check:GEOfastq.install-out.txt --library=/home/biocbuild/R/R/site-library --no-vignettes --timings GEOfastq_1.14.0.tar.gz StartedAt: 2025-02-14 07:13:05 -0000 (Fri, 14 Feb 2025) EndedAt: 2025-02-14 07:27:00 -0000 (Fri, 14 Feb 2025) EllapsedTime: 834.6 seconds RetCode: 0 Status: OK CheckDir: GEOfastq.Rcheck Warnings: 0