Package: GEOfastq Version: 1.14.0 Command: chmod a+r GEOfastq -R && F:\biocbuild\bbs-3.20-bioc\R\bin\R.exe CMD build --keep-empty-dirs --no-resave-data GEOfastq StartedAt: 2025-02-13 19:06:41 -0500 (Thu, 13 Feb 2025) EndedAt: 2025-02-13 19:06:56 -0500 (Thu, 13 Feb 2025) EllapsedTime: 15.0 seconds RetCode: 0 Status: OK PackageFile: GEOfastq_1.14.0.tar.gz PackageFileSize: 13.44 KiB