Package: GEOfastq Version: 1.14.0 Command: /home/biocbuild/bbs-3.20-bioc/R/bin/R CMD build --keep-empty-dirs --no-resave-data --md5 GEOfastq StartedAt: 2025-02-17 17:21:09 -0500 (Mon, 17 Feb 2025) EndedAt: 2025-02-17 17:21:20 -0500 (Mon, 17 Feb 2025) EllapsedTime: 11.0 seconds RetCode: 0 Status: OK PackageFile: GEOfastq_1.14.0.tar.gz PackageFileSize: 13.9 KiB