Package: GENIE3 Version: 1.28.0 Command: /home/biocbuild/R/R/bin/R CMD build --keep-empty-dirs --no-resave-data GENIE3 StartedAt: 2025-01-28 00:30:31 -0000 (Tue, 28 Jan 2025) EndedAt: 2025-01-28 00:30:40 -0000 (Tue, 28 Jan 2025) EllapsedTime: 9.0 seconds RetCode: 0 Status: OK PackageFile: GENIE3_1.28.0.tar.gz PackageFileSize: 266.4 KiB