Package: GENIE3 Version: 1.28.0 Command: F:\biocbuild\bbs-3.20-bioc\R\bin\R.exe CMD INSTALL GENIE3 StartedAt: 2025-03-31 15:28:35 -0400 (Mon, 31 Mar 2025) EndedAt: 2025-03-31 15:28:46 -0400 (Mon, 31 Mar 2025) EllapsedTime: 11.1 seconds RetCode: 0 Status: OK