Package: GENIE3 Version: 1.28.0 Command: rm -rf GENIE3.buildbin-libdir && mkdir GENIE3.buildbin-libdir && F:\biocbuild\bbs-3.20-bioc\R\bin\R.exe CMD INSTALL --build --library=GENIE3.buildbin-libdir GENIE3_1.28.0.tar.gz StartedAt: 2025-01-28 08:13:06 -0500 (Tue, 28 Jan 2025) EndedAt: 2025-01-28 08:13:16 -0500 (Tue, 28 Jan 2025) EllapsedTime: 9.3 seconds RetCode: 0 Status: OK PackageFile: GENIE3_1.28.0.zip PackageFileSize: 267.5 KiB