Package: GENIE3 Version: 1.28.0 Command: /Library/Frameworks/R.framework/Resources/bin/R CMD check --install=check:GENIE3.install-out.txt --library=/Library/Frameworks/R.framework/Resources/library --no-vignettes --timings GENIE3_1.28.0.tar.gz StartedAt: 2025-01-28 04:20:02 -0500 (Tue, 28 Jan 2025) EndedAt: 2025-01-28 04:21:29 -0500 (Tue, 28 Jan 2025) EllapsedTime: 87.6 seconds RetCode: 0 Status: OK CheckDir: GENIE3.Rcheck Warnings: 0