Package: GDSArray Version: 1.26.0 Command: /home/biocbuild/R/R/bin/R CMD build --keep-empty-dirs --no-resave-data GDSArray StartedAt: 2025-01-28 00:27:49 -0000 (Tue, 28 Jan 2025) EndedAt: 2025-01-28 00:28:22 -0000 (Tue, 28 Jan 2025) EllapsedTime: 33.0 seconds RetCode: 0 Status: OK PackageFile: GDSArray_1.26.0.tar.gz PackageFileSize: 372 KiB