Package: GDSArray Version: 1.26.0 Command: F:\biocbuild\bbs-3.20-bioc\R\bin\R.exe CMD check --no-multiarch --install=check:GDSArray.install-out.txt --library=F:\biocbuild\bbs-3.20-bioc\R\library --no-vignettes --timings GDSArray_1.26.0.tar.gz StartedAt: 2025-02-04 02:02:25 -0500 (Tue, 04 Feb 2025) EndedAt: 2025-02-04 02:04:43 -0500 (Tue, 04 Feb 2025) EllapsedTime: 138.0 seconds RetCode: 0 Status: WARNINGS CheckDir: GDSArray.Rcheck Warnings: 2