Package: GDSArray Version: 1.26.0 Command: rm -rf GDSArray.buildbin-libdir && mkdir GDSArray.buildbin-libdir && F:\biocbuild\bbs-3.20-bioc\R\bin\R.exe CMD INSTALL --build --library=GDSArray.buildbin-libdir GDSArray_1.26.0.tar.gz StartedAt: 2025-02-04 08:32:28 -0500 (Tue, 04 Feb 2025) EndedAt: 2025-02-04 08:33:10 -0500 (Tue, 04 Feb 2025) EllapsedTime: 42.1 seconds RetCode: 0 Status: OK PackageFile: GDSArray_1.26.0.zip PackageFileSize: 667.5 KiB