Package: GDSArray Version: 1.26.0 Command: /home/biocbuild/R/R/bin/R CMD INSTALL GDSArray StartedAt: 2024-11-19 20:38:26 -0000 (Tue, 19 Nov 2024) EndedAt: 2024-11-19 20:38:52 -0000 (Tue, 19 Nov 2024) EllapsedTime: 25.3 seconds RetCode: 0 Status: OK