Package: GDSArray Version: 1.26.0 Command: /Library/Frameworks/R.framework/Resources/bin/R CMD INSTALL GDSArray StartedAt: 2024-11-08 15:17:25 -0500 (Fri, 08 Nov 2024) EndedAt: 2024-11-08 15:17:32 -0500 (Fri, 08 Nov 2024) EllapsedTime: 7.1 seconds RetCode: 0 Status: OK