Package: GDCRNATools Version: 1.26.0 Command: /Library/Frameworks/R.framework/Resources/bin/R CMD INSTALL GDCRNATools StartedAt: 2025-03-31 18:10:33 -0400 (Mon, 31 Mar 2025) EndedAt: 2025-03-31 18:11:46 -0400 (Mon, 31 Mar 2025) EllapsedTime: 73.6 seconds RetCode: 0 Status: OK