Package: GBScleanR Version: 2.0.3 Command: /home/biocbuild/R/R/bin/R CMD INSTALL GBScleanR StartedAt: 2025-02-03 20:30:40 -0000 (Mon, 03 Feb 2025) EndedAt: 2025-02-03 20:31:50 -0000 (Mon, 03 Feb 2025) EllapsedTime: 70.5 seconds RetCode: 0 Status: OK