Package: GBScleanR Version: 2.0.3 Command: /home/biocbuild/R/R/bin/R CMD build --keep-empty-dirs --no-resave-data GBScleanR StartedAt: 2025-01-30 23:43:19 -0000 (Thu, 30 Jan 2025) EndedAt: 2025-01-30 23:45:16 -0000 (Thu, 30 Jan 2025) EllapsedTime: 117.0 seconds RetCode: 1 Status: ERROR PackageFile: None PackageFileSize: NA