Package: GBScleanR Version: 2.0.3 Command: /Library/Frameworks/R.framework/Resources/bin/R CMD build --keep-empty-dirs --no-resave-data GBScleanR StartedAt: 2025-01-30 19:15:34 -0500 (Thu, 30 Jan 2025) EndedAt: 2025-01-30 19:18:57 -0500 (Thu, 30 Jan 2025) EllapsedTime: 203.1 seconds RetCode: 0 Status: OK PackageFile: GBScleanR_2.0.3.tar.gz PackageFileSize: 2.233 MiB