Package: GBScleanR Version: 2.0.3 Command: rm -rf GBScleanR.buildbin-libdir && mkdir GBScleanR.buildbin-libdir && /Users/biocbuild/BBS/utils/build-universal.sh GBScleanR_2.0.3.tar.gz /Library/Frameworks/R.framework/Resources/bin/R GBScleanR.buildbin-libdir StartedAt: 2025-02-04 12:58:45 -0500 (Tue, 04 Feb 2025) EndedAt: 2025-02-04 13:00:29 -0500 (Tue, 04 Feb 2025) EllapsedTime: 104.5 seconds RetCode: 0 Status: OK PackageFile: GBScleanR_2.0.3.tgz PackageFileSize: 2.853 MiB