Package: GBScleanR Version: 2.0.3 Command: /Library/Frameworks/R.framework/Resources/bin/R CMD INSTALL GBScleanR StartedAt: 2025-01-30 15:30:30 -0500 (Thu, 30 Jan 2025) EndedAt: 2025-01-30 15:30:53 -0500 (Thu, 30 Jan 2025) EllapsedTime: 22.4 seconds RetCode: 0 Status: OK