Package: GAprediction Version: 1.32.0 Command: /home/biocbuild/R/R/bin/R CMD check --install=check:GAprediction.install-out.txt --library=/home/biocbuild/R/R/site-library --no-vignettes --timings GAprediction_1.32.0.tar.gz StartedAt: 2025-02-11 06:21:01 -0000 (Tue, 11 Feb 2025) EndedAt: 2025-02-11 06:22:16 -0000 (Tue, 11 Feb 2025) EllapsedTime: 75.1 seconds RetCode: 0 Status: OK CheckDir: GAprediction.Rcheck Warnings: 0