Package: GAprediction Version: 1.32.0 Command: /home/biocbuild/R/R/bin/R CMD build --keep-empty-dirs --no-resave-data GAprediction StartedAt: 2025-02-10 23:33:05 -0000 (Mon, 10 Feb 2025) EndedAt: 2025-02-10 23:33:46 -0000 (Mon, 10 Feb 2025) EllapsedTime: 41.0 seconds RetCode: 0 Status: OK PackageFile: GAprediction_1.32.0.tar.gz PackageFileSize: 1.807 MiB