Package: GAprediction Version: 1.32.0 Command: /home/biocbuild/bbs-3.20-bioc/R/bin/R CMD check --install=check:GAprediction.install-out.txt --library=/home/biocbuild/bbs-3.20-bioc/R/site-library --timings GAprediction_1.32.0.tar.gz StartedAt: 2025-01-30 22:20:10 -0500 (Thu, 30 Jan 2025) EndedAt: 2025-01-30 22:21:55 -0500 (Thu, 30 Jan 2025) EllapsedTime: 105.1 seconds RetCode: 0 Status: OK CheckDir: GAprediction.Rcheck Warnings: 0