Package: GAprediction Version: 1.32.0 Command: /Library/Frameworks/R.framework/Resources/bin/R CMD INSTALL GAprediction StartedAt: 2025-03-31 17:09:53 -0400 (Mon, 31 Mar 2025) EndedAt: 2025-03-31 17:10:07 -0400 (Mon, 31 Mar 2025) EllapsedTime: 14.2 seconds RetCode: 0 Status: OK