Package: GAprediction Version: 1.32.0 Command: /Library/Frameworks/R.framework/Resources/bin/R CMD check --install=check:GAprediction.install-out.txt --library=/Library/Frameworks/R.framework/Resources/library --no-vignettes --timings GAprediction_1.32.0.tar.gz StartedAt: 2025-04-01 19:40:42 -0400 (Tue, 01 Apr 2025) EndedAt: 2025-04-01 19:42:00 -0400 (Tue, 01 Apr 2025) EllapsedTime: 78.7 seconds RetCode: 0 Status: OK CheckDir: GAprediction.Rcheck Warnings: 0