Package: GAprediction Version: 1.32.0 Command: /Library/Frameworks/R.framework/Resources/bin/R CMD build --keep-empty-dirs --no-resave-data GAprediction StartedAt: 2025-03-31 23:45:03 -0400 (Mon, 31 Mar 2025) EndedAt: 2025-03-31 23:45:48 -0400 (Mon, 31 Mar 2025) EllapsedTime: 45.8 seconds RetCode: 0 Status: OK PackageFile: GAprediction_1.32.0.tar.gz PackageFileSize: 1.806 MiB