Package: GA4GHshiny Version: 1.28.0 Command: F:\biocbuild\bbs-3.20-bioc\R\bin\R.exe CMD INSTALL GA4GHshiny StartedAt: 2025-02-10 16:59:34 -0500 (Mon, 10 Feb 2025) EndedAt: 2025-02-10 17:00:21 -0500 (Mon, 10 Feb 2025) EllapsedTime: 46.3 seconds RetCode: 0 Status: OK