Package: GA4GHshiny Version: 1.28.0 Command: /home/biocbuild/bbs-3.20-bioc/R/bin/R CMD check --install=check:GA4GHshiny.install-out.txt --library=/home/biocbuild/bbs-3.20-bioc/R/site-library --timings GA4GHshiny_1.28.0.tar.gz StartedAt: 2025-02-10 22:21:22 -0500 (Mon, 10 Feb 2025) EndedAt: 2025-02-10 22:26:07 -0500 (Mon, 10 Feb 2025) EllapsedTime: 285.2 seconds RetCode: 0 Status: OK CheckDir: GA4GHshiny.Rcheck Warnings: 0