Package: GA4GHshiny Version: 1.28.0 Command: /Library/Frameworks/R.framework/Resources/bin/R CMD INSTALL GA4GHshiny StartedAt: 2025-02-10 18:07:00 -0500 (Mon, 10 Feb 2025) EndedAt: 2025-02-10 18:07:51 -0500 (Mon, 10 Feb 2025) EllapsedTime: 50.8 seconds RetCode: 0 Status: OK