Package: GA4GHclient Version: 1.30.0 Command: /home/biocbuild/R/R/bin/R CMD build --keep-empty-dirs --no-resave-data GA4GHclient StartedAt: 2025-03-31 23:35:13 -0000 (Mon, 31 Mar 2025) EndedAt: 2025-03-31 23:36:56 -0000 (Mon, 31 Mar 2025) EllapsedTime: 103.1 seconds RetCode: 0 Status: OK PackageFile: GA4GHclient_1.30.0.tar.gz PackageFileSize: 736.8 KiB