Package: GA4GHclient Version: 1.30.0 Command: /Library/Frameworks/R.framework/Resources/bin/R CMD build --keep-empty-dirs --no-resave-data GA4GHclient StartedAt: 2025-03-31 18:48:54 -0400 (Mon, 31 Mar 2025) EndedAt: 2025-03-31 18:51:45 -0400 (Mon, 31 Mar 2025) EllapsedTime: 170.6 seconds RetCode: 0 Status: OK PackageFile: GA4GHclient_1.30.0.tar.gz PackageFileSize: 637.5 KiB