Package: FuseSOM Version: 1.8.0 Command: rm -rf FuseSOM.buildbin-libdir && mkdir FuseSOM.buildbin-libdir && F:\biocbuild\bbs-3.20-bioc\R\bin\R.exe CMD INSTALL --build --library=FuseSOM.buildbin-libdir FuseSOM_1.8.0.tar.gz StartedAt: 2025-04-01 08:13:31 -0400 (Tue, 01 Apr 2025) EndedAt: 2025-04-01 08:14:11 -0400 (Tue, 01 Apr 2025) EllapsedTime: 39.8 seconds RetCode: 0 Status: OK PackageFile: FuseSOM_1.8.0.zip PackageFileSize: 1.965 MiB