Package: FuseSOM Version: 1.8.0 Command: rm -rf FuseSOM.buildbin-libdir && mkdir FuseSOM.buildbin-libdir && /Users/biocbuild/BBS/utils/build-universal.sh FuseSOM_1.8.0.tar.gz /Library/Frameworks/R.framework/Resources/bin/R FuseSOM.buildbin-libdir StartedAt: 2025-04-01 11:54:24 -0400 (Tue, 01 Apr 2025) EndedAt: 2025-04-01 11:55:23 -0400 (Tue, 01 Apr 2025) EllapsedTime: 59.0 seconds RetCode: 0 Status: OK PackageFile: FuseSOM_1.8.0.tgz PackageFileSize: 2.719 MiB