Package: FlowSOM Version: 2.14.0 Command: F:\biocbuild\bbs-3.20-bioc\R\bin\R.exe CMD INSTALL FlowSOM StartedAt: 2025-02-10 17:02:19 -0500 (Mon, 10 Feb 2025) EndedAt: 2025-02-10 17:02:48 -0500 (Mon, 10 Feb 2025) EllapsedTime: 29.0 seconds RetCode: 0 Status: OK