Package: FlowSOM Version: 2.14.0 Command: rm -rf FlowSOM.buildbin-libdir && mkdir FlowSOM.buildbin-libdir && F:\biocbuild\bbs-3.20-bioc\R\bin\R.exe CMD INSTALL --build --library=FlowSOM.buildbin-libdir FlowSOM_2.14.0.tar.gz StartedAt: 2025-02-11 08:28:45 -0500 (Tue, 11 Feb 2025) EndedAt: 2025-02-11 08:29:40 -0500 (Tue, 11 Feb 2025) EllapsedTime: 55.0 seconds RetCode: 0 Status: OK PackageFile: FlowSOM_2.14.0.zip PackageFileSize: 5.231 MiB