############################################################################## ############################################################################## ### ### Running command: ### ### /home/biocbuild/bbs-3.20-bioc/R/bin/R CMD check --install=check:FlowSOM.install-out.txt --library=/home/biocbuild/bbs-3.20-bioc/R/site-library --timings FlowSOM_2.14.0.tar.gz ### ############################################################################## ############################################################################## * using log directory ‘/home/biocbuild/bbs-3.20-bioc/meat/FlowSOM.Rcheck’ * using R version 4.4.2 (2024-10-31) * using platform: x86_64-pc-linux-gnu * R was compiled by gcc (Ubuntu 13.2.0-23ubuntu4) 13.2.0 GNU Fortran (Ubuntu 13.2.0-23ubuntu4) 13.2.0 * running under: Ubuntu 24.04.1 LTS * using session charset: UTF-8 * checking for file ‘FlowSOM/DESCRIPTION’ ... OK * this is package ‘FlowSOM’ version ‘2.14.0’ * package encoding: UTF-8 * checking package namespace information ... OK * checking package dependencies ... OK * checking if this is a source package ... OK * checking if there is a namespace ... OK * checking for hidden files and directories ... OK * checking for portable file names ... OK * checking for sufficient/correct file permissions ... OK * checking whether package ‘FlowSOM’ can be installed ... OK * used C compiler: ‘gcc (Ubuntu 13.3.0-6ubuntu2~24.04) 13.3.0’ * checking installed package size ... OK * checking package directory ... OK * checking ‘build’ directory ... OK * checking DESCRIPTION meta-information ... OK * checking top-level files ... OK * checking for left-over files ... OK * checking index information ... OK * checking package subdirectories ... OK * checking code files for non-ASCII characters ... OK * checking R files for syntax errors ... OK * checking whether the package can be loaded ... OK * checking whether the package can be loaded with stated dependencies ... OK * checking whether the package can be unloaded cleanly ... OK * checking whether the namespace can be loaded with stated dependencies ... OK * checking whether the namespace can be unloaded cleanly ... OK * checking loading without being on the library search path ... OK * checking whether startup messages can be suppressed ... OK * checking dependencies in R code ... OK * checking S3 generic/method consistency ... OK * checking replacement functions ... OK * checking foreign function calls ... OK * checking R code for possible problems ... OK * checking Rd files ... NOTE checkRd: (-1) PlotDimRed.Rd:55: Lost braces 55 | of the dimred default = function(dimred){dimred$Y}.} | ^ * checking Rd metadata ... OK * checking Rd cross-references ... OK * checking for missing documentation entries ... OK * checking for code/documentation mismatches ... OK * checking Rd \usage sections ... OK * checking Rd contents ... OK * checking for unstated dependencies in examples ... OK * checking line endings in C/C++/Fortran sources/headers ... OK * checking compiled code ... NOTE Note: information on .o files is not available * checking files in ‘vignettes’ ... OK * checking examples ... OK Examples with CPU (user + system) or elapsed time > 5s user system elapsed FlowSOMmary 47.213 0.342 47.389 PlotDimRed 44.002 0.185 44.150 PlotOutliers 15.499 0.013 15.513 PlotMarker 15.243 0.039 15.283 UpdateMetaclusters 14.724 0.031 14.755 PlotStars 12.812 0.017 12.830 GroupStats 11.365 0.021 11.387 FlowSOM 10.836 0.123 10.961 PlotGroups 9.554 0.013 9.566 query_multiple 8.140 0.012 8.151 AddAnnotation 7.748 0.191 7.940 QueryMultiple 7.826 0.009 7.869 Plot2DScatters 7.180 0.022 7.194 PlotNode 6.775 0.011 6.785 GetFlowJoLabels 6.628 0.097 6.726 PlotManualBars 6.479 0.019 6.498 QueryStarPlot 6.165 0.014 6.179 PlotVariable 5.978 0.016 5.994 PlotNumbers 5.858 0.015 5.873 CountGroups 5.675 0.096 5.771 PlotPies 5.631 0.014 5.646 UpdateNodeSize 5.101 0.006 5.107 * checking for unstated dependencies in vignettes ... OK * checking package vignettes ... OK * checking re-building of vignette outputs ... OK * checking PDF version of manual ... OK * DONE Status: 2 NOTEs See ‘/home/biocbuild/bbs-3.20-bioc/meat/FlowSOM.Rcheck/00check.log’ for details.