Package: FitHiC Version: 1.32.0 Command: /home/biocbuild/R/R/bin/R CMD INSTALL FitHiC StartedAt: 2025-02-17 20:20:18 -0000 (Mon, 17 Feb 2025) EndedAt: 2025-02-17 20:21:02 -0000 (Mon, 17 Feb 2025) EllapsedTime: 43.8 seconds RetCode: 0 Status: OK