Package: FitHiC Version: 1.32.0 Command: /home/biocbuild/R/R/bin/R CMD build --keep-empty-dirs --no-resave-data FitHiC StartedAt: 2025-02-17 23:37:36 -0000 (Mon, 17 Feb 2025) EndedAt: 2025-02-17 23:40:02 -0000 (Mon, 17 Feb 2025) EllapsedTime: 146.0 seconds RetCode: 0 Status: OK PackageFile: FitHiC_1.32.0.tar.gz PackageFileSize: 27.66 MiB