Package: FitHiC Version: 1.32.0 Command: F:\biocbuild\bbs-3.20-bioc\R\bin\R.exe CMD INSTALL FitHiC StartedAt: 2025-02-13 15:22:48 -0500 (Thu, 13 Feb 2025) EndedAt: 2025-02-13 15:23:16 -0500 (Thu, 13 Feb 2025) EllapsedTime: 27.9 seconds RetCode: 0 Status: OK