Package: FitHiC Version: 1.32.0 Command: /home/biocbuild/bbs-3.20-bioc/R/bin/R CMD build --keep-empty-dirs --no-resave-data --md5 FitHiC StartedAt: 2025-02-17 17:12:43 -0500 (Mon, 17 Feb 2025) EndedAt: 2025-02-17 17:14:39 -0500 (Mon, 17 Feb 2025) EllapsedTime: 116.2 seconds RetCode: 0 Status: OK PackageFile: FitHiC_1.32.0.tar.gz PackageFileSize: 27.66 MiB