Package: FitHiC Version: 1.32.0 Command: /Library/Frameworks/R.framework/Resources/bin/R CMD build --keep-empty-dirs --no-resave-data FitHiC StartedAt: 2025-02-13 18:50:16 -0500 (Thu, 13 Feb 2025) EndedAt: 2025-02-13 18:54:30 -0500 (Thu, 13 Feb 2025) EllapsedTime: 254.2 seconds RetCode: 0 Status: OK PackageFile: FitHiC_1.32.0.tar.gz PackageFileSize: 27.88 MiB