Package: FindIT2 Version: 1.12.0 Command: /home/biocbuild/R/R/bin/R CMD build --keep-empty-dirs --no-resave-data FindIT2 StartedAt: 2025-01-28 00:19:27 -0000 (Tue, 28 Jan 2025) EndedAt: 2025-01-28 00:21:33 -0000 (Tue, 28 Jan 2025) EllapsedTime: 126.0 seconds RetCode: 0 Status: OK PackageFile: FindIT2_1.12.0.tar.gz PackageFileSize: 1.579 MiB