Package: FindIT2 Version: 1.12.0 Command: F:\biocbuild\bbs-3.20-bioc\R\bin\R.exe CMD INSTALL FindIT2 StartedAt: 2025-01-27 16:37:46 -0500 (Mon, 27 Jan 2025) EndedAt: 2025-01-27 16:38:34 -0500 (Mon, 27 Jan 2025) EllapsedTime: 47.6 seconds RetCode: 0 Status: OK