Package: FindIT2 Version: 1.12.0 Command: chmod a+r FindIT2 -R && F:\biocbuild\bbs-3.20-bioc\R\bin\R.exe CMD build --keep-empty-dirs --no-resave-data FindIT2 StartedAt: 2025-01-27 18:55:14 -0500 (Mon, 27 Jan 2025) EndedAt: 2025-01-27 18:57:38 -0500 (Mon, 27 Jan 2025) EllapsedTime: 143.3 seconds RetCode: 0 Status: OK PackageFile: FindIT2_1.12.0.tar.gz PackageFileSize: 1.42 MiB