Package: FindIT2 Version: 1.12.0 Command: rm -rf FindIT2.buildbin-libdir && mkdir FindIT2.buildbin-libdir && F:\biocbuild\bbs-3.20-bioc\R\bin\R.exe CMD INSTALL --build --library=FindIT2.buildbin-libdir FindIT2_1.12.0.tar.gz StartedAt: 2025-04-01 08:12:02 -0400 (Tue, 01 Apr 2025) EndedAt: 2025-04-01 08:13:04 -0400 (Tue, 01 Apr 2025) EllapsedTime: 62.0 seconds RetCode: 0 Status: OK PackageFile: FindIT2_1.12.0.zip PackageFileSize: 1.543 MiB