Package: FeatSeekR Version: 1.6.0 Command: /home/biocbuild/R/R/bin/R CMD INSTALL FeatSeekR StartedAt: 2025-01-27 21:15:42 -0000 (Mon, 27 Jan 2025) EndedAt: 2025-01-27 21:16:07 -0000 (Mon, 27 Jan 2025) EllapsedTime: 25.0 seconds RetCode: 0 Status: OK